Workbook

Sheet PR
E1: Appendix 60 | H1: SCHOOL NAME
H2: General Luna Elementary School
H3: Trinidad Lopez De Gonzaga National High School
A4: Republic of the Philippines | H4: Jose B. Puey Sr. Elementary School
A5: Department of Education | H5: Alfredo E. Marañon Sr. Elementary School
A6: Negros Island Region | H6: Alfredo E. Marañon Sr. Elementary School (SOF)
A7: Maria Lopez ES | H7: Sagay City Farm School
H8: Sagay City Senior High School
A9: PURCHASE REQUEST | H9: B. Mahilum- ES & HBIS-Buenaventura Mahilum Annex
A10: Office / Section: | C10: PR No: | D10: 26-01-015 | E10: Date: | H10: Buenaventura V. Rodriguez Elementary School
A11: OSDS-FINANCE | C11: Responsibility Center Code: | E11: Source of Fund | F11: Division MOOE | H11: Old Sagay Elementary School
C12: Activity Code: | H12: Old Sagay National High School
A13: Stock/ Property No. | B13: Unit | C13: Item Description | D13: Quantity | E13: Unit Cost | F13: Total Cost | H13: Pedro R. Katalbas Sr. I Elementary School
B14: pc | C14: 8GB RAM DDR3 1600MHz | D14: 2 | E14: 1200 | F14: =E14*D14 -> 2400 | H14: Pedro R. Katalbas Sr. II Elementary School
B15: pc | C15: 8GB RAM DDR4 2666MHz/1333MHz | D15: 1 | E15: 3000 | F15: =E15*D15 -> 3000 | H15: Suyac Elementary
B16: pcs | C16: Solid State Drive 128 gb | D16: 3 | E16: 1500 | F16: =E16*D16 -> 4500 | H16: Bulanon Elementary School
B17: pc | C17: 8gb RAM for Acer Laptop- P258-MG | D17: 1 | E17: 1500 | F17: =E17*D17 -> 1500 | H17: Bulanon Farm School
B18: pc | C18: 512gb RAM for Acer Laptop- P258-MG | D18: 1 | E18: 3700 | F18: =E18*D18 -> 3700 | H18: Bulanon NHS-Onofre Extension
A19: TOTAL | F19: =SUM(F14:F18) -> 15100 | H19: Onofre Dela Paz Elementary
A20: Purpose: | B20: Procurement of Solid State Drive & Random Access Memory for Upgrade of Accounting Computer Units | H20: Talusan Elementary School
H21: Plaridel Elementary School
H22: Raymundo Tupas ES
B23: Requested By: | D23: Approved By: | H23: Raymundo Tupas (SESCO Extn)
H24: Elia T. Canoy-Esperancilla Elementary School
A25: Signature: | H25: Matabas Elementary School
A26: Printed Name: | B26: JOSIE R. REBUSQUILLO, CPA | D26: DANNIE CLARK M. UGUIL, CESE | H26: Molocaboc II Elementary School
A27: Designation: | B27: Accountant III | D27: OIC-Schools Division Superintendent | H27: Molocaboc Integrated School
H28: Vito Elementary School
A29: TRUE | B29: In accordance with the approved CY 2026 | D29: Allotment Available: | H29: Vito National High School
B30: Annual Procurement Plan | H30: Tuong Elementary School
A31: FALSE | B31: Not included in the approved CY 2026 | D31: MA. LEAH LINDA S. TAN | H31: Cesar Gamboa Elementary School
B32: Annual Procurement Plan | D32: Administrative Officer V (Budget) | H32: Ricardo Gamboa Elementary School
H33: Sagay City Eco-Zone Farm School
H34: Raynor Mesa Elementary School
H35: Sir Arthur Cooper Elementary School
H36: Maria Lopez Elementary School
H37: Sagay National High School
H38: Gil Lopez Elementary School
H39: Fabrica Elementary School
H40: Himogaan Baybay Intergrated School
...

Sheet RESO 1
A2: Republic of the Philippines
A3: Department of Education
A4: Negros Island Region
A5: =PR!A7 -> Maria Lopez ES
A6: BIDS AND AWARDS COMMITTEE
A7: Present:
A8: MARK ANTHONY J. TAN - Chairperson | E8: CESAR C. DEMAFILES - Member | H8: FOR SCHOOL BAC:
A9: MA. THERESA Q. BINGCANG - Vice - Chair | E9: FELICIANO D. MERCURIO JR. - Member
A12: BAC RESOLUTION FOR MODE OF PROCUREMENT AND RECOMMENDING APPROVAL
A14: RESOLUTION # | D14: SVP-015-2026
A15: Series of 2026
A17: WHEREAS, APPROVED Purchased Request/s was/were submitted to the members of the Committee for their appropiate
A18: action on mode of procurement to wit:
A20: TITLE/DESCRIPTION: | C20: =PR!B20 -> Procurement of Solid State Drive & Random Access Memory for Upgrade of Accounting Computer Units
A22: REQUESTING DEPT./OFFICE | C22: PURCHASE REQUEST NO. | E22: DATE | F22: AMOUNT
A24: =PR!D10 -> 26-01-015 | C24: =PR!D10 -> 26-01-015 | E24: =PR!F10 -> 0 | F24: =PR!F19 -> 15100
F26: =SUM(F23:G25) -> 15100
A28: WHEREAS, Section 34 of the Revised IRR of RA 12009 otherwise known as The New Government Procurement Reform Act states that Small Value Procurement is a mode of procurement where the Procuring Entity requests at least three (3) price quotations for Goods not available in the PS-DBM, Infrastructure projects, and Consulting services, and the amount involve does not exceed the applicable threshold of Two Million Pesos (P2,000,000.00);
A30: WHEREAS, Considering the adoption of the Fit-for-Purpose and Proportional approaches, and recognizing the urgency of the services and/or items requisitioned, it is hereby resolved the Committee that the procurement of said item/s or service/s based in the approved Purchased Request will be through Small Value Procurement with the supplier who could offer the most advantageous price to the Government;
A32: NOW, THEREFORE, on motion of CESAR C. DEMAFILES duly seconded by all the members present, the body
A33: RESOLVES as it is hereby RESOLVED to recommend to the Superintendent that procurement for items or services contained
A34: in the above-listed approved Purchase Request/s will be through SMALL VALUE PROCUREMENT with the supplier who could
A35: offer the most advantageous price to the government;
A37: RESOLVED, at the Office of the BAC Secretariat, Division of Sagay City, Sagay City, Negros Occidental, this
A38: 27th day of January 2026.
A41: CESAR C. DEMAFILES | C41: FELICIANO D. MERCURIO JR. | F41: =PR!B26 -> JOSIE R. REBUSQUILLO, CPA | H41: FOR SCHOOL BAC
A42: Member | C42: Member | F42: End User
F45: Approved:
A46: MA. THERESA Q. BINGCANG | C46: MARK ANTHONY J. TAN
A47: Vice-Chair | C47: Chairperson
E49: =PR!D26 -> DANNIE CLARK M. UGUIL, CESE
E50: OIC-Schools Division Superintendent
F51: Date: ____________
A75: TERMS AND CONDITIONS
A77: 1. ALL PRICES QUOTED HEREIN ARE VALID, BINDING AND EFFECTIVE AT LEAST WITHIN THIRTY (30) CALENDAR
A78: DAYS FROM DATE OF QUOTATION.
A80: 2. AWARDEE shall be responsible for the source(s) of his supplies/materials/equipment, shall make deliveries in accordance
A81: with schedule, quality and specifications of the award and purchase order. Failure by the AWARDEE to comply with the
A82: same shall be ground for cancellation of the award and purchase order issued to that AWARDEE and for re-awarding the
A83: item(s) to the ALTERNATE AWARDEE.
...

Sheet Quotation
A6: Republic of the Philippines
A7: Department of Education
A8: Negros Island Region
A9: =PR!A7 -> Maria Lopez ES
A11: OFFICE OF BIDS AND AWARDS COMMITTEE
A12: Project Reference No : | C12: =I21 -> 26-01-015
A13: Name of Project : | C13: =PR!B20 -> Procurement of Solid State Drive & Random Access Memory for Upgrade of Accounting Computer Units
A14: Total ABC | B14: : | C14: =PR!F19 -> 15100
A15: Location of the Project | C15: Sagay City
A16: Fund: | C16: =PR!F11 -> Division MOOE
A18: REQUEST FOR QUOTATION
D20: Name of Company | G20: Date : | I20: January 20, 2026
D21: Address | G21: Quotation No.: | I21: =PR!D10 -> 26-01-015
D22: TIN Number (please indicate if VAT or NON-VAT) | BC22: Name of Project | BE22: :
A23: Please quote your lowest price on the item/s listed below subject to the General Condition on the last page stating | AI23: Department of Education | BC23: Source of Funds | BE23: :
A24: the shortest time of delivery. Submit your quotation duly signed by your representative not later than | AI24: DIVISION OF SAGAY CITY | BC24: Cost of Project | BE24: :
A25: 0.58333333 | B25: January 27, 2026 | D25: to the return envelope attached herewith. | BA25: Abstract of Canvass #: | BB25: =#REF! -> #REF! | BC25: Date Prepared | BE25: :
A26: (Time) | AI26: ABSTRACT OF CANVASS | BC26: Materials:
F27: MARK ANTHONY J. TAN, PhD
A28: NOTE: | F28: OIC - Office of the ASDS | AI28: Name of Project: | AK28: =#REF! -> #REF! | AP28: KIMTIÑAS CATERING | AR28: SHIREEN CATERING | AT28: CHIMEI'S CATERING | AY28: Sheet | AZ28: Page 1 of 1 | BC28: Qty. | BD28: Unit | BE28: Description | BH28: Unit Cost
A29: 1 | B29: All entries must be typewritten. | F29: BAC Chairperson | AI29: Item No. | AJ29: Quantity | AK29: Unit of Issue | AL29: Name & Specification of Articles | AP29: Unit Price | AQ29: Total Amount | AR29: Unit Price | AS29: Total Amount | AT29: Unit Price | AU29: Total Amount | AV29: Unit Price | AW29: Total Amount | AY29: Date | BC29: =#REF! -> #REF! | BD29: =#REF! -> #REF! | BE29: =#REF! -> #REF! | BH29: =#REF! -> #REF!
A30: 2 | B30: Delivery period within | D30: 7 | E30: calendar days after receipt of Purchase Order. | BC30: =#REF! -> #REF! | BD30: =#REF! -> #REF! | BE30: =#REF! -> #REF! | BH30: =#REF! -> #REF!
A31: 3 | B31: Warranty shall be for a period of six (6) months for supplies and materials. One (1) year for equipment | AI31: =#REF! -> #REF! | AJ31: =#REF! -> #REF! | AK31: =#REF! -> #REF! | AL31: =#REF! -> #REF! | AP31: =#REF! -> #REF! | AQ31: =SUM(AP31)*AJ31 -> #REF! | AR31: 25 | AS31: =SUM(AR31)*AJ31 -> #REF! | AT31: 28 | AU31: =SUM(AT31)*AJ31 -> #REF! | BC31: =#REF! -> #REF! | BD31: =#REF! -> #REF! | BE31: =#REF! -> #REF! | BH31: =#REF! -> #REF!
B32: from date of acceptance by the procuring entity. | AI32: 2 | AJ32: =#REF! -> #REF! | AK32: =#REF! -> #REF! | AL32: =#REF! -> #REF! | AP32: =#REF! -> #REF! | AQ32: =SUM(AP32)*AJ32 -> #REF! | AR32: 150 | AS32: =SUM(AR32)*AJ32 -> #REF! | AT32: 150 | AU32: =SUM(AT32)*AJ32 -> #REF! | BC32: =#REF! -> #REF! | BD32: =#REF! -> #REF! | BE32: =#REF! -> #REF! | BH32: =#REF! -> #REF!
A33: 4 | B33: Price validity shall be for a period of | E33: 30 | F33: calendar days after issuance of Request for Quotation. | AI33: 3 | AJ33: =#REF! -> #REF! | AK33: =#REF! -> #REF! | AL33: =#REF! -> #REF! | AP33: =#REF! -> #REF! | AQ33: =SUM(AP33)*AJ33 -> #REF! | AR33: 25 | AS33: =SUM(AR33)*AJ33 -> #REF! | AT33: 28 | AU33: =SUM(AT33)*AJ33 -> #REF! | BC33: =#REF! -> #REF! | BD33: =#REF! -> #REF! | BE33: =#REF! -> #REF! | BH33: =#REF! -> #REF!
A34: 5 | B34: Mayor's Permit & PhilGeps Registration Certificate shall be attached upon submission of the quotation. | AI34: =#REF! -> #REF! | AJ34: =#REF! -> #REF! | AK34: =#REF! -> #REF! | AL34: =#REF! -> #REF! | BC34: =AJ44 -> 0 | BD34: =AK44 -> 0 | BE34: =AL44 -> 0 | BH34: =AP44 -> 0
A35: 6 | B35: Bidders shall submit original brochures showing certifications of the product being offered. | BC35: =AJ45 -> 0 | BD35: =AK45 -> 0 | BE35: =AL45 -> 0 | BH35: =AP45 -> 0
A36: Item No. | B36: Name & Description | G36: Qty | H36: Unit | I36: Unit Price | J36: Total Price | BC36: =#REF! -> #REF! | BD36: =#REF! -> #REF! | BE36: =#REF! -> #REF! | BH36: =#REF! -> #REF!
B37: =PR!C14 -> 8GB RAM DDR3 1600MHz | G37: =PR!D14 -> 2 | H37: =PR!B14 -> pc
B38: =PR!C15 -> 8GB RAM DDR4 2666MHz/1333MHz | G38: =PR!D15 -> 1 | H38: =PR!B15 -> pc
B39: =PR!C16 -> Solid State Drive 128 gb | G39: =PR!D16 -> 3 | H39: =PR!B16 -> pcs
B40: =PR!C17 -> 8gb RAM for Acer Laptop- P258-MG | G40: =PR!D17 -> 1 | H40: =PR!B17 -> pc
B41: =PR!C18 -> 512gb RAM for Acer Laptop- P258-MG | G41: =PR!D18 -> 1 | H41: =PR!B18 -> pc
A44: Brand Model: | G44: Warranty:
A45: Delivery Period: | G45: Price Validity
B47: After having carefully read and accepted your General Condition. I/We quote you the item/s at prices noted above. | AQ47: =SUM(AQ31:AQ45) -> #REF! | AS47: =SUM(AS31:AS45) -> #REF! | AU47: =SUM(AU31:AU45) -> #REF!
AI49: We, members of the BIDS and AWARDS COMMITTEE (BAC) do hereby certify in accordance with the Request for Quotation dated | AU49: received and opened at the office of the
G50: Printed Name/Signature | AI50: BAC Secretariat Office, Sagay City, Negros Occidental on | AP50: that the forgoing is a true statement of prices and conditions offered for each of the above items at the
AI51: time the canvass was made and the quality and prices offered by winning offers which we marked with circle/check are most advantegeous obtainable for the above items.
G52: Tel./Cellphone No./Email Address | BC52: Total Cost of Material - - - - - - - - - - - - - - - - - - - - - - - - - - - - - - - - -
...

Sheet Abstract
A4: Republic of the Philippines
A5: Department of Education
A6: Negros Island Region
A7: =PR!A7 -> Maria Lopez ES
A8: DIVISION OF SAGAY CITY
L10: AOC No.:
A11: ABSTRACT OF CANVASS
A13: Name of Project: | C13: =PR!B20 -> Procurement of Solid State Drive & Random Access Memory for Upgrade of Accounting Computer Units
A15: Item No. | B15: Quantity | C15: Unit of Issue | D15: Name & Specification of Articles | H15: Unit Price | I15: Total Amount | J15: Unit Price | K15: Total Amount | L15: Unit Price | M15: Total Amount | N15: Unit Price | O15: Total Amount
B17: =Quotation!G37 -> 2 | C17: =Quotation!H37 -> pc | D17: =PR!C14 -> 8GB RAM DDR3 1600MHz | H17: 1500 | I17: =H17*B17 -> 3000 | K17: =J17*B17 -> 0 | M17: =L17*B17 -> 0
B18: =Quotation!G38 -> 1 | C18: =Quotation!H38 -> pc | D18: =PR!C15 -> 8GB RAM DDR4 2666MHz/1333MHz | H18: 1500 | I18: =H18*B18 -> 1500 | K18: =J18*B18 -> 0 | M18: =L18*B18 -> 0
B19: =Quotation!G39 -> 3 | C19: =Quotation!H39 -> pcs | D19: =PR!C16 -> Solid State Drive 128 gb | H19: 1500 | I19: =H19*B19 -> 4500 | K19: =J19*B19 -> 0 | M19: =L19*B19 -> 0
B20: =Quotation!G40 -> 1 | C20: =Quotation!H40 -> pc | D20: =PR!C17 -> 8gb RAM for Acer Laptop- P258-MG | H20: 1500 | I20: =H20*B20 -> 1500 | K20: =J20*B20 -> 0 | M20: =L20*B20 -> 0
B21: =Quotation!G41 -> 1 | C21: =Quotation!H41 -> pc | D21: =PR!C18 -> 512gb RAM for Acer Laptop- P258-MG | H21: 1500 | I21: =H21*B21 -> 1500 | K21: =J21*B21 -> 0 | M21: =L21*B21 -> 0
D22: ABC: | E22: =Quotation!C14 -> 15100
I23: =SUM(I17:I22) -> 12000 | K23: =SUM(K21:K22) -> 0 | M23: =SUM(M21:M22) -> 0 | O23: =SUM(O22:O22) -> 0
A24: We, members of the BIDS and AWARDS COMMITTEE (BAC) do hereby certify in accordance with the Request for Quotation dated | K24: =Quotation!I20 -> January 20, 2026 | M24: received and opened at the office of the
A25: BAC Secretariat Office, Sagay City, Negros Occidental on | G25: =Quotation!B25 -> January 27, 2026 | H25: that the forgoing is a true statement of prices and conditions offered for each of the above items at the
A26: time the canvass was made and the quality and prices offered by winning offers which we marked with circle/check are most advantegeous obtainable for the above items.
N28: =PR!B26 -> JOSIE R. REBUSQUILLO, CPA
B29: ='RESO 1'!A41 -> CESAR C. DEMAFILES | E29: FELICIANO D. MERCURIO JR. | H29: MA. THERESA Q. BINGCANG | K29: MARK ANTHONY J. TAN | P29: FOR SCHOOL BAC
B30: EPS | E30: EPS | H30: Chief, SGOD | K30: OIC - Office of the ASDS | N30: End User
B31: Member | E31: Member | H31: Vice-Chair | K31: Chairperson

Sheet RESO 2
B3: Republic of the Philippines
B4: Department of Education
B5: Negros Island Region
A6: =PR!A7 -> Maria Lopez ES
B8: BIDS AND AWARDS COMMITTEE
A10: BAC RESOLUTION DECLARING THE LOWEST CALCULATED & RESPONSIVE BID (LCRB) AND
A11: RECOMMENDING APROVAL
A13: RESOLUTION NO. | H13: LCRB-009-2026
A16: WHEREAS, the DepEd Division of Sagay City distributed the Request for Quotation for the PROCUREMENT OF SOLID STATE DRIVE & RANDOM ACCESS MEMORY FOR UPGRADE OF ACCOUNTING COMPUTER UNITS to three (3) prospective suppliers;
A18: WHEREAS, in response to the said quotation, three (3) prospective supplier submitted the quotation;
A20: WHEREAS, after all bids were tabulated and ranked, the BAC identified the Lowest Calculated Bid (LCB) for each item | P20: `
A21: shown in the attached Abstract of Quotation with the highlighted bid price/offer getting the LCB;
A23: NOW, THEREFORE, based on the above premises, we the Members of the Bids and Awards Committee, hereby
A24: RESOLVE as it is RESOLVED:
B26: a. | C26: To declare BROTHER AB HOME BUILDERS INC., as the Bidder with the Lowest Calculated & Responsive bid for the
C27: PROCUREMENT OF SOLID STATE DRIVE & RANDOM ACCESS MEMORY FOR UPGRADE OF ACCOUNTING COMPUTER UNITS.
B29: d. | C29: To recommend for approval by the Superintendent of the Division of Sagay City.
B31: RESOLVED, at the Division Conference Room, this 27th day of January 2026.
B35: CESAR C. DEMAFILES | F35: =Abstract!E29 -> FELICIANO D. MERCURIO JR. | K35: =PR!B26 -> JOSIE R. REBUSQUILLO, CPA | M35: FOR SCHOOL BAC
B36: Member | F36: Member | K36: End-User
A41: MA. THERESA Q. BINGCANG MARK ANTHONY J. TAN
A42: Vice-Chair | E42: Chairperson
A47: DANNIE CLARK M. UGUIL, CESE
A48: OIC-Schools Division Superintendent/Head of Procuring Entity
A49: Date approved: _______________

Sheet PO
E4: Appendix 61
A5: Republic of the Philippines
A6: Department of Education
A7: Negros Island Region
A8: =PR!A7 -> Maria Lopez ES
A9: PURCHASE ORDER
A10: Supplier : | D10: P.O. No. : | E10: =PR!D10 -> 26-01-015
A11: Address : | B11: SAGAY CITY | D11: Date :
A12: TIN : | D12: Mode of Procurement : | F12: DIRECT ACQUISITION
A13: Gentlemen:
A14: Please furnish this Office the following articles subject to the terms and conditions contained herein:
A16: Place of Delivery : | C16: DepEd Schools Division of Sagay | D16: Delivery Term : | E16: SEVEN (7) CALENDAR DAYS UPON RECEIPT OF PO
A17: Date of Delivery : | D17: Payment Term : | E17: THIRTY (30) CALENDAR DAYS UPON DELIVERY COMPLETION
A18: Stock/ Property No. | B18: Unit | C18: Description | D18: Quantity | E18: Unit Cost | F18: Amount
B19: =PR!B14 -> pc | C19: =Abstract!D17 -> 8GB RAM DDR3 1600MHz | D19: =PR!D14 -> 2 | F19: =E19*D19 -> 0
B20: =PR!B15 -> pc | C20: =Abstract!D18 -> 8GB RAM DDR4 2666MHz/1333MHz | D20: =PR!D15 -> 1 | F20: =E20*D20 -> 0
B21: =PR!B16 -> pcs | C21: =Abstract!D19 -> Solid State Drive 128 gb | D21: =PR!D16 -> 3 | F21: =E21*D21 -> 0
B22: =PR!B17 -> pc | C22: =Abstract!D20 -> 8gb RAM for Acer Laptop- P258-MG | D22: =PR!D17 -> 1 | F22: =E22*D22 -> 0
B23: =PR!B18 -> pc | C23: =Abstract!D21 -> 512gb RAM for Acer Laptop- P258-MG | D23: =PR!D18 -> 1 | E23: =Abstract!H21 -> 1500 | F23: =E23*D23 -> 1500
A26: (Total Amount in Words) | C26: Two Thousand Six Hundred Fifty Pesos | F26: =SUM(F19:F25) -> 1500
A28: In case of failure to make the full delivery within the time specified above, a penalty of one-tenth (1/10) of one percent for every day of delay shall be imposed on the undelivered item/s.
A31: Conforme: | D31: Very truly yours,
A33: __________________________ | D33: DANNIE CLARK M. UGUIL, CESE
A34: Signature over Printed Name of Supplier | D34: OIC-Schools Division Superintendent
A35: ___________________________ | D35: Head of Procuring Entity
A36: Date
A38: Fund Cluster : ___________________________________ | D38: ORS/BURS No. : ______________________
A39: Funds Available : _________________________________ | D39: Date of the ORS/BURS: ____________
D40: Amount : ____________________________
B41: JOSIE R. REBUSQUILLO
B42: Accountant III

Sheet IAR
Q1: Appendix 62
N3: INSPECTION AND ACCEPTANCE REPORT
N4: Entity Name : | O4: =[1]PO!A4 -> Department of Education - Schools Division of Sagay City | Q4: Fund Cluster : ___________
N5: Supplier : | O5: MJD MOTOR PARTS SUPPLY | Q5: IAR No. : | R5: =O6 -> 24-01-05
D6: Appendix 62 | N6: PO No./Date : | O6: 24-01-05 | Q6: Date : | R6: January 22, 2024
A7: INSPECTION AND ACCEPTANCE REPORT | N7: Requisitioning Office/Dept. : | O7: CTD | Q7: Invoice No. :
N8: Responsibility Center Code : | Q8: Date : | R8: January 26, 2024
A9: Entity Name : | B9: =PR!A7 -> Maria Lopez ES | C9: Fund Cluster : ______________ | N9: Stock/ Property No. | O9: Description | Q9: Unit | R9: Quantity
A10: Supplier : | B10: =PO!B10 -> 0 | C10: IAR No. : | O10: #REF! | Q10: Unit | R10: #REF!
A11: PO No./Date : | B11: =PO!E10 -> 26-01-015 | C11: Date : | D11: =PO!E10 -> 26-01-015
A12: Requisitioning Office/Dept. : | B12: =PR!A11 -> OSDS-FINANCE | C12: Invoice No. :
A13: Responsibility Center Code : | C13: Date : | D13: =PO!C17 -> 0 | N13: INSPECTION | P13: ACCEPTANCE
A14: Stock/ Property No. | B14: Description | C14: Unit | D14: Quantity | N14: Date Inspected : ____January 26, 2024____ | P14: Date Received : ___January 26, 2024___
B15: =PO!C19 -> 8GB RAM DDR3 1600MHz | C15: =PO!B19 -> pc | D15: =PO!D19 -> 2
B16: =PO!C20 -> 8GB RAM DDR4 2666MHz/1333MHz | C16: =PO!B20 -> pc | D16: =PO!D20 -> 1
B17: =PO!C21 -> Solid State Drive 128 gb | C17: =PO!B21 -> pcs | D17: =PO!D21 -> 3
B18: =PO!C22 -> 8gb RAM for Acer Laptop- P258-MG | C18: =PO!B22 -> pc | D18: =PO!D22 -> 1
B19: =PO!C23 -> 512gb RAM for Acer Laptop- P258-MG | C19: =PO!B23 -> pc | D19: =PO!D23 -> 1
A20: INSPECTION | C20: ACCEPTANCE
A21: Date Inspected: | B21: =D13 -> 0 | C21: =D13 -> 0
A23: Inspected, verified and found in order as to quantity and specifications | C23: Complete
C24: Partial (pls. specify quantity)
A28: ROMEO B. SANTILLAN | E28: FOR SCHOOL IAR
A29: Inspectorate Team Leader
A31: PHILIP HOWARD B. MALUNDO
A32: Inspectorate Member
A34: EDLYN H. MANATAD
A35: Inspectorate Member
C37: ROMIE J. OSAL
A38: =PR!B26 -> JOSIE R. REBUSQUILLO, CPA | C38: Administrative Officer IV
A39: Representative End-User Unit | C39: Property Officer

Sheet RIS
J2: No. | K2: 1 | AB2: Appendix 63
A3: REQUISITION AND ISSUANCE SLIP
U4: REQUISITION AND ISSUE SLIP
A5: Entity Name: | C5: =PR!A7 -> Maria Lopez ES | G5: Fund Cluster | U5: Entity Name : | W5: Department of Education | AA5: Fund Cluster :
U6: Division : | V6: Schools Division of Sagay City | Z6: Responsibility Center Code :
A7: Division: | B7: SDO SAGAY CITY | G7: Responsibility Center Code: | U7: Office : | V7: CTD | Z7: RIS No. : | AA7: 24-01-05
A8: Office: | B8: =IAR!B12 -> OSDS-FINANCE | G8: RIS No: | U8: Requisition | Y8: Stock Available? | AA8: Issue
A9: Requisition | F9: Stock Available | H9: Issuance | U9: Stock No. | V9: Unit | W9: Description | X9: Quantity | Y9: Yes | Z9: No | AA9: Quantity | AB9: Remarks
A10: Stock Number | B10: Unit | C10: Description | E10: Quantity | F10: Yes | G10: No | H10: Quantity | I10: Remarks | V10: Unit | W10: #REF! | X10: #REF! | Z10: / | AA10: =X10 -> #REF!
B11: =IAR!C15 -> pc | C11: =IAR!B15 -> 8GB RAM DDR3 1600MHz | E11: =IAR!D15 -> 2 | F11: TRUE | G11: FALSE | H11: =E11 -> 2
B12: =IAR!C16 -> pc | C12: =IAR!B16 -> 8GB RAM DDR4 2666MHz/1333MHz | E12: =IAR!D16 -> 1 | F12: TRUE | G12: FALSE | H12: =E12 -> 1
B13: =IAR!C17 -> pcs | C13: =IAR!B17 -> Solid State Drive 128 gb | E13: =IAR!D17 -> 3 | F13: TRUE | G13: FALSE | H13: =E13 -> 3
B14: =IAR!C18 -> pc | C14: =IAR!B18 -> 8gb RAM for Acer Laptop- P258-MG | E14: =IAR!D18 -> 1 | F14: TRUE | G14: FALSE | H14: =E14 -> 1
B15: =IAR!C19 -> pc | C15: =IAR!B19 -> 512gb RAM for Acer Laptop- P258-MG | E15: =IAR!D19 -> 1 | F15: TRUE | G15: FALSE | H15: =E15 -> 1 | U15: Printed Name : | W15: ELIZABETH B. ROMO | X15: NOE B. ABDON | Z15: ROMIE J. OSAL | AB15: SAMDURRELL B. ROMO
F16: FALSE | G16: TRUE
F17: FALSE | G17: TRUE
F18: FALSE | G18: TRUE
F19: FALSE | G19: TRUE
F20: FALSE | G20: TRUE
F21: FALSE | G21: TRUE
F22: FALSE | G22: TRUE
F23: FALSE | G23: TRUE
A24: Purpose: | B24: =PR!B20 -> Procurement of Solid State Drive & Random Access Memory for Upgrade of Accounting Computer Units
A27: Signature: | B27: REQUESTED BY: | E27: Approved by: | G27: Issued by: | I27: RECIEVED BY:
A30: Printed Name: | B30: =PR!B26 -> JOSIE R. REBUSQUILLO, CPA | E30: RHEA P. BAROBA | G30: ROMIE J. OSAL | I30: =B30 -> JOSIE R. REBUSQUILLO, CPA
A31: Designation: | B31: =PR!B27 -> Accountant III | E31: Administrative Officer IV- Records OIC, Administrative Office V-Admin. Services | G31: Administrative Officer IV | I31: =B31 -> Accountant III
A32: Date: | B32: =IAR!D13 -> 0 | E32: =B32 -> 0 | G32: =B32 -> 0 | I32: =B32 -> 0
A38: Division : | B38: Schools Division of Sagay City | F38: Responsibility Center Code :
A39: Office : | B39: =[2]IAR!#REF! -> #REF! | F39: RIS No. : | G39: =[2]IAR!E101 -> #REF!
A40: Requisition | E40: Stock Available? | G40: Issue
A41: Stock No. | B41: Unit | C41: Description | D41: Quantity | E41: Yes | F41: No | G41: Quantity | H41: Remarks
B42: =[2]IAR!D106 -> #REF! | C42: =[2]IAR!B60 -> #REF! | D42: =[2]IAR!E106 -> #REF! | F42: / | G42: =D42 -> #REF!
A45: Purpose: | B45: =[2]PR!B24 -> Meals & Snacks for the Conduct of the 2nd Qtr. Division Monitoring, Evaluation & Adjustment (DMEA) for CY 2024.
C47: Requested by: | D47: Approved by: | F47: Issued by: | H47: Received by:
A48: Signature :
A49: Printed Name : | C49: =[2]PR!B28 -> NOVA B. ZAMORA | D49: NOE B. ABDON | F49: ROMIE J. OSAL | H49: SAMDURRELL B. ROMO
A50: Designation : | C50: =[2]PR!B29 -> SEPS-M&E | D50: Administrative Officer V | F50: Administrative Officer IV | H50: Administrative Assistant II
A51: Date : | C51: =[2]IAR!E104 -> 0 | D51: =C51 -> 0 | F51: =C51 -> 0 | H51: =C51 -> 0
A52: AO 6/15/02
